BEGIN:VCALENDAR
VERSION:2.0
PRODID:-//Animal Control Officers Association of Massachusetts - ECPv6.15.20//NONSGML v1.0//EN
CALSCALE:GREGORIAN
METHOD:PUBLISH
X-WR-CALNAME:Animal Control Officers Association of Massachusetts
X-ORIGINAL-URL:https://www.acoam.org
X-WR-CALDESC:Events for Animal Control Officers Association of Massachusetts
REFRESH-INTERVAL;VALUE=DURATION:PT1H
X-Robots-Tag:noindex
X-PUBLISHED-TTL:PT1H
BEGIN:VTIMEZONE
TZID:America/Halifax
BEGIN:DAYLIGHT
TZOFFSETFROM:-0400
TZOFFSETTO:-0300
TZNAME:ADT
DTSTART:20220313T060000
END:DAYLIGHT
BEGIN:STANDARD
TZOFFSETFROM:-0300
TZOFFSETTO:-0400
TZNAME:AST
DTSTART:20221106T050000
END:STANDARD
BEGIN:DAYLIGHT
TZOFFSETFROM:-0400
TZOFFSETTO:-0300
TZNAME:ADT
DTSTART:20230312T060000
END:DAYLIGHT
BEGIN:STANDARD
TZOFFSETFROM:-0300
TZOFFSETTO:-0400
TZNAME:AST
DTSTART:20231105T050000
END:STANDARD
BEGIN:DAYLIGHT
TZOFFSETFROM:-0400
TZOFFSETTO:-0300
TZNAME:ADT
DTSTART:20240310T060000
END:DAYLIGHT
BEGIN:STANDARD
TZOFFSETFROM:-0300
TZOFFSETTO:-0400
TZNAME:AST
DTSTART:20241103T050000
END:STANDARD
END:VTIMEZONE
BEGIN:VEVENT
DTSTART;TZID=America/Halifax:20230330T123000
DTEND;TZID=America/Halifax:20230330T153000
DTSTAMP:20260425T130340
CREATED:20230301T155942Z
LAST-MODIFIED:20230301T160435Z
UID:743-1680179400-1680190200@www.acoam.org
SUMMARY:Central MA Regional Training & Roundtable
DESCRIPTION:Electronic Record Keeping Training\, followed by ACO Roundtable \nClick here for online registration for working ACOs.
URL:https://www.acoam.org/event/central-ma-regional-training-roundtable/
LOCATION:MassWildlife Headquarters\, 1 Rabbit Hill Road\, Westborough\, MA\, 01581\, United States
END:VEVENT
BEGIN:VEVENT
DTSTART;TZID=America/Halifax:20230330T080000
DTEND;TZID=America/Halifax:20230330T160000
DTSTAMP:20260425T130340
CREATED:20230301T161847Z
LAST-MODIFIED:20230301T161847Z
UID:750-1680163200-1680192000@www.acoam.org
SUMMARY:Rainforest Reptiles Training
DESCRIPTION:Click here for online registration.
URL:https://www.acoam.org/event/rainforest-reptiles-training/
LOCATION:Shelburne Police Department\, 623 Mohawk Trail\, Shelburne\, MA\, 01370\, United States
CATEGORIES:Training
END:VEVENT
BEGIN:VEVENT
DTSTART;TZID=America/Halifax:20230321T090000
DTEND;TZID=America/Halifax:20230321T120000
DTSTAMP:20260425T130340
CREATED:20230301T160348Z
LAST-MODIFIED:20230301T160348Z
UID:746-1679389200-1679400000@www.acoam.org
SUMMARY:Northeastern Training & Roundtable
DESCRIPTION:Marine Mammal Stranding Training\, followed by ACO Roundtable \nClick here for online registration for working ACOs\, Harbormasters\, and Natural Resource Officers.
URL:https://www.acoam.org/event/northeastern-training-roundtable/
LOCATION:Beverly Police Department\, 175 Elliot Street\, Beverly\, MA\, 01915\, United States
CATEGORIES:Regional Meeting,Training
END:VEVENT
BEGIN:VEVENT
DTSTART;VALUE=DATE:20230308
DTEND;VALUE=DATE:20230309
DTSTAMP:20260425T130340
CREATED:20230118T164627Z
LAST-MODIFIED:20230118T164627Z
UID:658-1678233600-1678319999@www.acoam.org
SUMMARY:ACOAM Board Meeting
DESCRIPTION:
URL:https://www.acoam.org/event/acoam-board-meeting-3/
LOCATION:MA
CATEGORIES:ACOAM Board Meeting
END:VEVENT
BEGIN:VEVENT
DTSTART;TZID=America/Halifax:20230302T110000
DTEND;TZID=America/Halifax:20230302T120000
DTSTAMP:20260425T130340
CREATED:20230301T155517Z
LAST-MODIFIED:20230301T155517Z
UID:738-1677754800-1677758400@www.acoam.org
SUMMARY:Western MA Regional Roundtable
DESCRIPTION:
URL:https://www.acoam.org/event/western-ma-regional-roundtable/
LOCATION:MA
CATEGORIES:Regional Meeting
END:VEVENT
BEGIN:VEVENT
DTSTART;TZID=America/Halifax:20230301T120000
DTEND;TZID=America/Halifax:20230301T140000
DTSTAMP:20260425T130340
CREATED:20230301T155402Z
LAST-MODIFIED:20230301T155547Z
UID:736-1677672000-1677679200@www.acoam.org
SUMMARY:Southeastern MA Regional Roundtable
DESCRIPTION:
URL:https://www.acoam.org/event/southeastern-regional-roundtable/
LOCATION:MA
CATEGORIES:Regional Meeting
END:VEVENT
BEGIN:VEVENT
DTSTART;TZID=America/Halifax:20230223T123000
DTEND;TZID=America/Halifax:20230223T153000
DTSTAMP:20260425T130340
CREATED:20230131T140148Z
LAST-MODIFIED:20230301T155617Z
UID:707-1677155400-1677166200@www.acoam.org
SUMMARY:Central MA Regional Training & Meeting
DESCRIPTION:**Postponed due to inclement weather**
URL:https://www.acoam.org/event/central-ma-regional-training-meeting/
LOCATION:MassWildlife Headquarters\, 1 Rabbit Hill Road\, Westborough\, MA\, 01581\, United States
CATEGORIES:Regional Meeting,Training
END:VEVENT
BEGIN:VEVENT
DTSTART;VALUE=DATE:20230208
DTEND;VALUE=DATE:20230209
DTSTAMP:20260425T130340
CREATED:20230118T164600Z
LAST-MODIFIED:20230118T164600Z
UID:656-1675814400-1675900799@www.acoam.org
SUMMARY:ACOAM Board Meeting
DESCRIPTION:
URL:https://www.acoam.org/event/acoam-board-meeting-2/
LOCATION:MA
END:VEVENT
BEGIN:VEVENT
DTSTART;TZID=America/Halifax:20230207T130000
DTEND;TZID=America/Halifax:20230207T150000
DTSTAMP:20260425T130340
CREATED:20230118T165325Z
LAST-MODIFIED:20230118T165331Z
UID:671-1675774800-1675782000@www.acoam.org
SUMMARY:Training - Wingmasters: New England Birds of Prey with Julie Ann Collier
DESCRIPTION:For registration paperwork click here
URL:https://www.acoam.org/event/training-wingmasters-new-england-birds-of-prey-with-julie-ann-collier/
LOCATION:West Springfield Town Hall\, 26 Central Street\, West Springfield\, MA\, 01089\, United States
CATEGORIES:Training
END:VEVENT
BEGIN:VEVENT
DTSTART;TZID=America/Halifax:20230202T110000
DTEND;TZID=America/Halifax:20230202T120000
DTSTAMP:20260425T130340
CREATED:20230118T165836Z
LAST-MODIFIED:20230118T165836Z
UID:675-1675335600-1675339200@www.acoam.org
SUMMARY:Western MA Regional Meeting
DESCRIPTION:
URL:https://www.acoam.org/event/western-ma-regional-meeting/
LOCATION:Oscars Pizza\, 973 East St\, Ludlow\, MA\, 01056\, United States
CATEGORIES:Regional Meeting
END:VEVENT
BEGIN:VEVENT
DTSTART;TZID=America/Halifax:20230201T120000
DTEND;TZID=America/Halifax:20230201T130000
DTSTAMP:20260425T130340
CREATED:20230119T173443Z
LAST-MODIFIED:20230119T173443Z
UID:691-1675252800-1675256400@www.acoam.org
SUMMARY:South Eastern MA Regional Meeting
DESCRIPTION:
URL:https://www.acoam.org/event/south-eastern-ma-regional-meeting/
LOCATION:Plymouth Public Library\, 132 South St\, Plymouth\, 02360\, United States
CATEGORIES:Regional Meeting
END:VEVENT
BEGIN:VEVENT
DTSTART;TZID=America/Halifax:20230111T100000
DTEND;TZID=America/Halifax:20230111T110000
DTSTAMP:20260425T130340
CREATED:20230118T164346Z
LAST-MODIFIED:20230118T164417Z
UID:653-1673431200-1673434800@www.acoam.org
SUMMARY:ACOAM Board Meeting
DESCRIPTION:
URL:https://www.acoam.org/event/acoam-board-meeting/
LOCATION:Remote
CATEGORIES:ACOAM Board Meeting
END:VEVENT
END:VCALENDAR