BEGIN:VCALENDAR
VERSION:2.0
PRODID:-//Animal Control Officers Association of Massachusetts - ECPv6.15.20//NONSGML v1.0//EN
CALSCALE:GREGORIAN
METHOD:PUBLISH
X-WR-CALNAME:Animal Control Officers Association of Massachusetts
X-ORIGINAL-URL:https://www.acoam.org
X-WR-CALDESC:Events for Animal Control Officers Association of Massachusetts
REFRESH-INTERVAL;VALUE=DURATION:PT1H
X-Robots-Tag:noindex
X-PUBLISHED-TTL:PT1H
BEGIN:VTIMEZONE
TZID:America/Halifax
BEGIN:DAYLIGHT
TZOFFSETFROM:-0400
TZOFFSETTO:-0300
TZNAME:ADT
DTSTART:20220313T060000
END:DAYLIGHT
BEGIN:STANDARD
TZOFFSETFROM:-0300
TZOFFSETTO:-0400
TZNAME:AST
DTSTART:20221106T050000
END:STANDARD
BEGIN:DAYLIGHT
TZOFFSETFROM:-0400
TZOFFSETTO:-0300
TZNAME:ADT
DTSTART:20230312T060000
END:DAYLIGHT
BEGIN:STANDARD
TZOFFSETFROM:-0300
TZOFFSETTO:-0400
TZNAME:AST
DTSTART:20231105T050000
END:STANDARD
BEGIN:DAYLIGHT
TZOFFSETFROM:-0400
TZOFFSETTO:-0300
TZNAME:ADT
DTSTART:20240310T060000
END:DAYLIGHT
BEGIN:STANDARD
TZOFFSETFROM:-0300
TZOFFSETTO:-0400
TZNAME:AST
DTSTART:20241103T050000
END:STANDARD
BEGIN:DAYLIGHT
TZOFFSETFROM:-0400
TZOFFSETTO:-0300
TZNAME:ADT
DTSTART:20250309T060000
END:DAYLIGHT
BEGIN:STANDARD
TZOFFSETFROM:-0300
TZOFFSETTO:-0400
TZNAME:AST
DTSTART:20251102T050000
END:STANDARD
BEGIN:DAYLIGHT
TZOFFSETFROM:-0400
TZOFFSETTO:-0300
TZNAME:ADT
DTSTART:20260308T060000
END:DAYLIGHT
BEGIN:STANDARD
TZOFFSETFROM:-0300
TZOFFSETTO:-0400
TZNAME:AST
DTSTART:20261101T050000
END:STANDARD
END:VTIMEZONE
BEGIN:VEVENT
DTSTART;TZID=America/Halifax:20251024T180000
DTEND;TZID=America/Halifax:20251024T220000
DTSTAMP:20260425T095711
CREATED:20250917T131510Z
LAST-MODIFIED:20250917T131510Z
UID:1164-1761328800-1761343200@www.acoam.org
SUMMARY:2025 Annual Meeting & Banquet
DESCRIPTION:Join us for a night of fine food & company as we celebrate those who have made an impact in the world of animal control and welfare in the past year! \nClick here to RSVP for our Annual Meeting & Banquet!
URL:https://www.acoam.org/event/2025-annual-meeting-banquet/
LOCATION:J Anthony’s Italian Grill\, 917 Southbridge Street\, Auburn\, MA\, 01501\, United States
END:VEVENT
BEGIN:VEVENT
DTSTART;TZID=America/Halifax:20251008T080000
DTEND;TZID=America/Halifax:20251008T160000
DTSTAMP:20260425T095711
CREATED:20250917T131129Z
LAST-MODIFIED:20250917T131129Z
UID:1162-1759910400-1759939200@www.acoam.org
SUMMARY:2025 Day of Training: Day 2\, Dedham
DESCRIPTION:From Signals to Safety: Canine & Feline Behavior in Animal Welfare \nInstructor:\nTrish McMillan\nM.S. in Animal Behavior\nCPDT-KA\, CDBC\, ACCBC \nPricing:\nACOAM Members: $50.00 per person per session\nNon-ACOAM Members: $85.00 per person per session\, includes a FY26 membership  to ACOAM \n**All fees are non-refundable** \nThis training will be available in two separate sessions. You do not need to attend both\, as the same materials will be covered each day. \nClick here to register.
URL:https://www.acoam.org/event/2025-day-of-training-day-2-dedham/
LOCATION:ARL Boston\, Dedham\, 10 Anna's Pl\, Dedham\, MA\, 02026\, United States
CATEGORIES:Training
END:VEVENT
BEGIN:VEVENT
DTSTART;TZID=America/Halifax:20251007T080000
DTEND;TZID=America/Halifax:20251007T160000
DTSTAMP:20260425T095711
CREATED:20250917T131024Z
LAST-MODIFIED:20250917T131024Z
UID:1159-1759824000-1759852800@www.acoam.org
SUMMARY:2025 Day of Training: Day 1\, Shrewsbury
DESCRIPTION:From Signals to Safety: Canine & Feline Behavior in Animal Welfare \nInstructor:\nTrish McMillan\nM.S. in Animal Behavior\nCPDT-KA\, CDBC\, ACCBC \nPricing:\nACOAM Members: $50.00 per person per session\nNon-ACOAM Members: $85.00 per person per session\, includes a FY26 membership  to ACOAM \n**All fees are non-refundable** \nThis training will be available in two separate sessions. You do not need to attend both\, as the same materials will be covered each day. \nClick here to register.
URL:https://www.acoam.org/event/2025-day-of-training-day-1-shrewsbury/
LOCATION:Shrewsbury Police Department\, 106 Maple Ave\, Shrewsbury\, MA\, 01545
CATEGORIES:Training
END:VEVENT
BEGIN:VEVENT
DTSTART;TZID=America/Halifax:20240306T120000
DTEND;TZID=America/Halifax:20240306T130000
DTSTAMP:20260425T095711
CREATED:20240223T180942Z
LAST-MODIFIED:20240223T181055Z
UID:1039-1709726400-1709730000@www.acoam.org
SUMMARY:Southeastern Round Table
DESCRIPTION:Date: Wednesday\, March 6th\, 2024\nTime: 12:00 PM\nLocation: 912 Brock Ave\, New Bedford – Police Station 2: Training Room\nRSVP: Southeasternvp@acoam.org \nRSVPs are not necessary\, but recommended!
URL:https://www.acoam.org/event/southeastern-round-table/
LOCATION:New Bedford Police Station 2\, 912 Brock Ave\, New Bedford\, MA\, United States
END:VEVENT
BEGIN:VEVENT
DTSTART;TZID=America/Halifax:20231207T110000
DTEND;TZID=America/Halifax:20231207T123000
DTSTAMP:20260425T095711
CREATED:20230501T210250Z
LAST-MODIFIED:20230503T155428Z
UID:865-1701946800-1701952200@www.acoam.org
SUMMARY:Western MA Regional Roundtable (virtual)
DESCRIPTION:The monthly meeting begins promptly at 11am and is approximately 1-1 1/2 hour long.  All ACO’s\, Animal Welfare\, and related fields are welcome to attend regardless of membership status. RSVPS are encouraged but not required.  Please email westernvp@acoam.org for more details\, or if you are interested in hosting a round table networking event as the location changes each month.
URL:https://www.acoam.org/event/western-ma-regional-roundtable-virtual-2/
LOCATION:MA
CATEGORIES:Regional Meeting
END:VEVENT
BEGIN:VEVENT
DTSTART;TZID=America/Halifax:20231103T080000
DTEND;TZID=America/Halifax:20231103T160000
DTSTAMP:20260425T095711
CREATED:20231004T170157Z
LAST-MODIFIED:20231004T170157Z
UID:983-1698998400-1699027200@www.acoam.org
SUMMARY:ACOAM's 2023 Day of Training
DESCRIPTION:Registration is now OPEN for ACOAM’s 2023 Day of Training: The Forensics of Dog Aggression\, instructed by Dr. James Crosby. \nThis training seminar will be available at two separate locations on Thursday\, November 2nd and Friday\, November 3rd. \nClicker here to register for this seminar.
URL:https://www.acoam.org/event/acoams-2023-day-of-training-2/
LOCATION:Tufts University\, 201 Westboro Rd\, Grafton\, MA\, 01536\, United States
END:VEVENT
BEGIN:VEVENT
DTSTART;TZID=America/Halifax:20231102T110000
DTEND;TZID=America/Halifax:20231102T123000
DTSTAMP:20260425T095711
CREATED:20230501T210210Z
LAST-MODIFIED:20230503T155440Z
UID:863-1698922800-1698928200@www.acoam.org
SUMMARY:Western MA Regional Roundtable
DESCRIPTION:The monthly meeting begins promptly at 11am and is approximately 1-1 1/2 hour long.  All ACO’s\, Animal Welfare\, and related fields are welcome to attend regardless of membership status. RSVPS are encouraged but not required.  Please email westernvp@acoam.org for more details\, or if you are interested in hosting a round table networking event as the location changes each month.
URL:https://www.acoam.org/event/western-ma-regional-roundtable-8/
LOCATION:MA
CATEGORIES:Regional Meeting
END:VEVENT
BEGIN:VEVENT
DTSTART;TZID=America/Halifax:20231102T080000
DTEND;TZID=America/Halifax:20231102T160000
DTSTAMP:20260425T095711
CREATED:20231004T170029Z
LAST-MODIFIED:20231004T170029Z
UID:980-1698912000-1698940800@www.acoam.org
SUMMARY:ACOAM's 2023 Day of Training
DESCRIPTION:Registration is now OPEN for ACOAM’s 2023 Day of Training: The Forensics of Dog Aggression\, instructed by Dr. James Crosby. \nThis training seminar will be available at two separate locations on Thursday\, November 2nd and Friday\, November 3rd. \nClicker here to register for this seminar.
URL:https://www.acoam.org/event/acoams-2023-day-of-training/
LOCATION:ARL Boston\, Dedham\, 10 Anna's Pl\, Dedham\, MA\, 02026\, United States
END:VEVENT
BEGIN:VEVENT
DTSTART;TZID=America/Halifax:20231027T180000
DTEND;TZID=America/Halifax:20231027T220000
DTSTAMP:20260425T095711
CREATED:20230929T165513Z
LAST-MODIFIED:20230929T165513Z
UID:962-1698429600-1698444000@www.acoam.org
SUMMARY:Annual Meeting & Banquet
DESCRIPTION:WHEN: Friday October 27\, 2023 \nWHERE: J’ Anthony’s Italian Grill\n917 Southbridge Street\nAuburn\, MA  01501 \nTIMES:\nRegistration and Cocktails 6:00 pm\nAnnual Meeting: 6:30 pm\nDinner: 7:00 pm—awards to follow \nRaffle prizes and cash bar \nPLEASE SEND RSVP AND PAYMENT PRIOR TO:\n ***October 20\, 2023***
URL:https://www.acoam.org/event/annual-meeting-banquet/
LOCATION:MA
END:VEVENT
BEGIN:VEVENT
DTSTART;TZID=America/Halifax:20231005T110000
DTEND;TZID=America/Halifax:20231005T123000
DTSTAMP:20260425T095711
CREATED:20230501T210114Z
LAST-MODIFIED:20230503T155450Z
UID:861-1696503600-1696509000@www.acoam.org
SUMMARY:Western MA Regional Roundtable
DESCRIPTION:The monthly meeting begins promptly at 11am and is approximately 1-1 1/2 hour long.  All ACO’s\, Animal Welfare\, and related fields are welcome to attend regardless of membership status. RSVPS are encouraged but not required.  Please email westernvp@acoam.org for more details\, or if you are interested in hosting a round table networking event as the location changes each month.
URL:https://www.acoam.org/event/western-ma-regional-roundtable-7/
LOCATION:MA
CATEGORIES:Regional Meeting
END:VEVENT
BEGIN:VEVENT
DTSTART;VALUE=DATE:20230913
DTEND;VALUE=DATE:20230914
DTSTAMP:20260425T095711
CREATED:20230118T164822Z
LAST-MODIFIED:20230118T164822Z
UID:669-1694563200-1694649599@www.acoam.org
SUMMARY:ACOAM Board Meeting
DESCRIPTION:
URL:https://www.acoam.org/event/acoam-board-meeting-7/
LOCATION:MA
CATEGORIES:ACOAM Board Meeting
END:VEVENT
BEGIN:VEVENT
DTSTART;TZID=America/Halifax:20230907T110000
DTEND;TZID=America/Halifax:20230907T123000
DTSTAMP:20260425T095711
CREATED:20230501T210039Z
LAST-MODIFIED:20230503T155503Z
UID:859-1694084400-1694089800@www.acoam.org
SUMMARY:Western MA Regional Roundtable
DESCRIPTION:The monthly meeting begins promptly at 11am and is approximately 1-1 1/2 hour long.  All ACO’s\, Animal Welfare\, and related fields are welcome to attend regardless of membership status. RSVPS are encouraged but not required.  Please email westernvp@acoam.org for more details\, or if you are interested in hosting a round table networking event as the location changes each month.
URL:https://www.acoam.org/event/western-ma-regional-roundtable-6/
LOCATION:MA
CATEGORIES:Regional Meeting
END:VEVENT
BEGIN:VEVENT
DTSTART;VALUE=DATE:20230809
DTEND;VALUE=DATE:20230810
DTSTAMP:20260425T095711
CREATED:20230118T164753Z
LAST-MODIFIED:20230118T164753Z
UID:667-1691539200-1691625599@www.acoam.org
SUMMARY:ACOAM Board Meeting
DESCRIPTION:
URL:https://www.acoam.org/event/acoam-board-meeting-6/
LOCATION:MA
CATEGORIES:ACOAM Board Meeting
END:VEVENT
BEGIN:VEVENT
DTSTART;TZID=America/Halifax:20230803T110000
DTEND;TZID=America/Halifax:20230803T123000
DTSTAMP:20260425T095711
CREATED:20230501T210005Z
LAST-MODIFIED:20230503T155553Z
UID:857-1691060400-1691065800@www.acoam.org
SUMMARY:Western MA Regional Roundtable
DESCRIPTION:The monthly meeting begins promptly at 11am and is approximately 1-1 1/2 hour long.  All ACO’s\, Animal Welfare\, and related fields are welcome to attend regardless of membership status. RSVPS are encouraged but not required.  Please email westernvp@acoam.org for more details\, or if you are interested in hosting a round table networking event as the location changes each month.
URL:https://www.acoam.org/event/western-ma-regional-roundtable-5/
LOCATION:MA
CATEGORIES:Regional Meeting
END:VEVENT
BEGIN:VEVENT
DTSTART;TZID=America/Halifax:20230706T110000
DTEND;TZID=America/Halifax:20230706T123000
DTSTAMP:20260425T095711
CREATED:20230501T205931Z
LAST-MODIFIED:20230503T155730Z
UID:855-1688641200-1688646600@www.acoam.org
SUMMARY:Western MA Regional Roundtable (virtual)
DESCRIPTION:The monthly meeting begins promptly at 11am and is approximately 1-1 1/2 hour long.  All ACO’s\, Animal Welfare\, and related fields are welcome to attend regardless of membership status. RSVPS are encouraged but not required.  Please email westernvp@acoam.org for more details\, or if you are interested in hosting a round table networking event as the location changes each month.
URL:https://www.acoam.org/event/western-ma-regional-roundtable-virtual/
LOCATION:MA
CATEGORIES:Regional Meeting
END:VEVENT
BEGIN:VEVENT
DTSTART;VALUE=DATE:20230614
DTEND;VALUE=DATE:20230615
DTSTAMP:20260425T095711
CREATED:20230118T164736Z
LAST-MODIFIED:20230118T164736Z
UID:665-1686700800-1686787199@www.acoam.org
SUMMARY:ACOAM Board Meeting
DESCRIPTION:
URL:https://www.acoam.org/event/acoam-board-meeting-5/
LOCATION:MA
CATEGORIES:ACOAM Board Meeting
END:VEVENT
BEGIN:VEVENT
DTSTART;TZID=America/Halifax:20230602T110000
DTEND;TZID=America/Halifax:20230602T123000
DTSTAMP:20260425T095711
CREATED:20230501T205855Z
LAST-MODIFIED:20230503T155541Z
UID:853-1685703600-1685709000@www.acoam.org
SUMMARY:Western MA Regional Roundtable
DESCRIPTION:The monthly meeting begins promptly at 11am and is approximately 1-1 1/2 hour long.  All ACO’s\, Animal Welfare\, and related fields are welcome to attend regardless of membership status. RSVPS are encouraged but not required.  Please email westernvp@acoam.org for more details\, or if you are interested in hosting a round table networking event as the location changes each month.
URL:https://www.acoam.org/event/western-ma-regional-roundtable-4/
LOCATION:MA
CATEGORIES:Regional Meeting
END:VEVENT
BEGIN:VEVENT
DTSTART;TZID=America/Halifax:20230524T090000
DTEND;TZID=America/Halifax:20230524T140000
DTSTAMP:20260425T095711
CREATED:20230428T145547Z
LAST-MODIFIED:20230428T145547Z
UID:843-1684918800-1684936800@www.acoam.org
SUMMARY:Wildlife Training & Southeastern Roundtable
DESCRIPTION:Please CLICK HERE to RSVP!
URL:https://www.acoam.org/event/wildlife-training-southeastern-roundtable/
LOCATION:Dennis Police Department\, 90 Bob Crowell Rd\, Dennis\, MA\, 02660\, United States
CATEGORIES:Regional Meeting,Training
END:VEVENT
BEGIN:VEVENT
DTSTART;VALUE=DATE:20230517
DTEND;VALUE=DATE:20230518
DTSTAMP:20260425T095711
CREATED:20230118T164712Z
LAST-MODIFIED:20230428T145620Z
UID:663-1684281600-1684367999@www.acoam.org
SUMMARY:ACOAM Board Meeting
DESCRIPTION:
URL:https://www.acoam.org/event/acoam-board-meeting-4/
LOCATION:MA
CATEGORIES:ACOAM Board Meeting
END:VEVENT
BEGIN:VEVENT
DTSTART;TZID=America/Halifax:20230504T110000
DTEND;TZID=America/Halifax:20230504T120000
DTSTAMP:20260425T095711
CREATED:20230501T205746Z
LAST-MODIFIED:20230503T155747Z
UID:851-1683198000-1683201600@www.acoam.org
SUMMARY:Western MA Regional Roundtable
DESCRIPTION:The monthly meeting begins promptly at 11am and is approximately 1-1 1/2 hour long.  All ACO’s\, Animal Welfare\, and related fields are welcome to attend regardless of membership status. RSVPS are encouraged but not required.  Please email westernvp@acoam.org for more details\, or if you are interested in hosting a round table networking event as the location changes each month.
URL:https://www.acoam.org/event/western-ma-regional-roundtable-3/
LOCATION:MA
CATEGORIES:Regional Meeting
END:VEVENT
BEGIN:VEVENT
DTSTART;VALUE=DATE:20230412
DTEND;VALUE=DATE:20230413
DTSTAMP:20260425T095711
CREATED:20230118T164651Z
LAST-MODIFIED:20230118T164657Z
UID:660-1681257600-1681343999@www.acoam.org
SUMMARY:ACOAM Board Meeting
DESCRIPTION:
URL:https://www.acoam.org/event/acoam-board-meetin/
LOCATION:MA
CATEGORIES:ACOAM Board Meeting
END:VEVENT
BEGIN:VEVENT
DTSTART;TZID=America/Halifax:20230406T110000
DTEND;TZID=America/Halifax:20230406T130000
DTSTAMP:20260425T095711
CREATED:20230323T195441Z
LAST-MODIFIED:20230323T195441Z
UID:774-1680778800-1680786000@www.acoam.org
SUMMARY:Western MA Regional Roundtable
DESCRIPTION:
URL:https://www.acoam.org/event/western-ma-regional-roundtable-2/
LOCATION:Hadley Police Department\, 15 East St\, Hadley\, MA\, 01035\, United States
CATEGORIES:Regional Meeting
END:VEVENT
BEGIN:VEVENT
DTSTART;TZID=America/Halifax:20230405T120000
DTEND;TZID=America/Halifax:20230405T133000
DTSTAMP:20260425T095711
CREATED:20230324T160112Z
LAST-MODIFIED:20230324T160112Z
UID:787-1680696000-1680701400@www.acoam.org
SUMMARY:Southeastern MA Regional Roundtable
DESCRIPTION:
URL:https://www.acoam.org/event/southeastern-ma-regional-roundtable/
LOCATION:Kingston Police Department\, 33A Summer St\, Kingston\, MA\, 02364\, United States
END:VEVENT
BEGIN:VEVENT
DTSTART;TZID=America/Halifax:20230404T140000
DTEND;TZID=America/Halifax:20230404T150000
DTSTAMP:20260425T095711
CREATED:20230323T195651Z
LAST-MODIFIED:20230328T170604Z
UID:777-1680616800-1680620400@www.acoam.org
SUMMARY:Northeastern MA Regional Roundtable
DESCRIPTION:Hosted virtually through Google Meet. \nGoogle Meet joining info\nVideo call link: https://meet.google.com/oka-zgkt-tfg\nOr dial: ‪(US) +1 971-260-6670 PIN: ‪416 836 391#\nMore phone numbers: https://tel.meet/oka-zgkt-tfg?pin=6162676460314
URL:https://www.acoam.org/event/northeastern-ma-regional-roundtable/
LOCATION:MA
END:VEVENT
BEGIN:VEVENT
DTSTART;TZID=America/Halifax:20230330T123000
DTEND;TZID=America/Halifax:20230330T153000
DTSTAMP:20260425T095711
CREATED:20230301T155942Z
LAST-MODIFIED:20230301T160435Z
UID:743-1680179400-1680190200@www.acoam.org
SUMMARY:Central MA Regional Training & Roundtable
DESCRIPTION:Electronic Record Keeping Training\, followed by ACO Roundtable \nClick here for online registration for working ACOs.
URL:https://www.acoam.org/event/central-ma-regional-training-roundtable/
LOCATION:MassWildlife Headquarters\, 1 Rabbit Hill Road\, Westborough\, MA\, 01581\, United States
END:VEVENT
BEGIN:VEVENT
DTSTART;TZID=America/Halifax:20230330T080000
DTEND;TZID=America/Halifax:20230330T160000
DTSTAMP:20260425T095711
CREATED:20230301T161847Z
LAST-MODIFIED:20230301T161847Z
UID:750-1680163200-1680192000@www.acoam.org
SUMMARY:Rainforest Reptiles Training
DESCRIPTION:Click here for online registration.
URL:https://www.acoam.org/event/rainforest-reptiles-training/
LOCATION:Shelburne Police Department\, 623 Mohawk Trail\, Shelburne\, MA\, 01370\, United States
CATEGORIES:Training
END:VEVENT
BEGIN:VEVENT
DTSTART;TZID=America/Halifax:20230321T090000
DTEND;TZID=America/Halifax:20230321T120000
DTSTAMP:20260425T095711
CREATED:20230301T160348Z
LAST-MODIFIED:20230301T160348Z
UID:746-1679389200-1679400000@www.acoam.org
SUMMARY:Northeastern Training & Roundtable
DESCRIPTION:Marine Mammal Stranding Training\, followed by ACO Roundtable \nClick here for online registration for working ACOs\, Harbormasters\, and Natural Resource Officers.
URL:https://www.acoam.org/event/northeastern-training-roundtable/
LOCATION:Beverly Police Department\, 175 Elliot Street\, Beverly\, MA\, 01915\, United States
CATEGORIES:Regional Meeting,Training
END:VEVENT
BEGIN:VEVENT
DTSTART;VALUE=DATE:20230308
DTEND;VALUE=DATE:20230309
DTSTAMP:20260425T095711
CREATED:20230118T164627Z
LAST-MODIFIED:20230118T164627Z
UID:658-1678233600-1678319999@www.acoam.org
SUMMARY:ACOAM Board Meeting
DESCRIPTION:
URL:https://www.acoam.org/event/acoam-board-meeting-3/
LOCATION:MA
CATEGORIES:ACOAM Board Meeting
END:VEVENT
BEGIN:VEVENT
DTSTART;TZID=America/Halifax:20230302T110000
DTEND;TZID=America/Halifax:20230302T120000
DTSTAMP:20260425T095711
CREATED:20230301T155517Z
LAST-MODIFIED:20230301T155517Z
UID:738-1677754800-1677758400@www.acoam.org
SUMMARY:Western MA Regional Roundtable
DESCRIPTION:
URL:https://www.acoam.org/event/western-ma-regional-roundtable/
LOCATION:MA
CATEGORIES:Regional Meeting
END:VEVENT
BEGIN:VEVENT
DTSTART;TZID=America/Halifax:20230301T120000
DTEND;TZID=America/Halifax:20230301T140000
DTSTAMP:20260425T095711
CREATED:20230301T155402Z
LAST-MODIFIED:20230301T155547Z
UID:736-1677672000-1677679200@www.acoam.org
SUMMARY:Southeastern MA Regional Roundtable
DESCRIPTION:
URL:https://www.acoam.org/event/southeastern-regional-roundtable/
LOCATION:MA
CATEGORIES:Regional Meeting
END:VEVENT
END:VCALENDAR